BEGIN:VCALENDAR
VERSION:2.0
PRODID:-//213.186.33.4//NONSGML kigkonsult.se iCalcreator 2.20//
CALSCALE:GREGORIAN
METHOD:PUBLISH
X-WR-TIMEZONE:Europe/Paris
BEGIN:VEVENT
UID:event396@GUMS Paris
DTSTAMP:20260421T094045Z
CATEGORIES:Ski de Rando
DESCRIPTION:Car-couchettes St Christophe en Oisans\nCatégorie: Ski de Rando
 \nLien: https://www.gumsparis.asso.fr/index.php?option=com_jem&view=event&
 id=396:car-couchette-75\n
DTSTART;VALUE=DATE:20150404
DTEND;VALUE=DATE:20150407
SUMMARY:Car-couchettes St Christophe en Oisans
URL:https://www.gumsparis.asso.fr/index.php?option=com_jem&view=event&id=39
 6:car-couchette-75
END:VEVENT
END:VCALENDAR
