BEGIN:VCALENDAR
VERSION:2.0
PRODID:-//213.186.33.4//NONSGML kigkonsult.se iCalcreator 2.20//
CALSCALE:GREGORIAN
METHOD:PUBLISH
X-WR-TIMEZONE:Europe/Paris
BEGIN:VEVENT
UID:event397@GUMS Paris
DTSTAMP:20260421T093942Z
CATEGORIES:Ski de Rando
DESCRIPTION:Car-couchettes Col du Simplon\nCatégorie: Ski de Rando\nLien: h
 ttps://www.gumsparis.asso.fr/index.php?option=com_jem&view=event&id=397:ca
 r-couchette-76\n
DTSTART;VALUE=DATE:20150411
DTEND;VALUE=DATE:20150413
SUMMARY:Car-couchettes Col du Simplon
URL:https://www.gumsparis.asso.fr/index.php?option=com_jem&view=event&id=39
 7:car-couchette-76
END:VEVENT
END:VCALENDAR
