BEGIN:VCALENDAR
VERSION:2.0
PRODID:-//213.186.33.4//NONSGML kigkonsult.se iCalcreator 2.20//
CALSCALE:GREGORIAN
METHOD:PUBLISH
X-WR-TIMEZONE:Europe/Paris
BEGIN:VEVENT
UID:event398@GUMS Paris
DTSTAMP:20260421T094045Z
CATEGORIES:Ski de Rando
DESCRIPTION:Car-couchettes Destination à décider\nCatégorie: Ski de Rando\n
 Lien: https://www.gumsparis.asso.fr/index.php?option=com_jem&view=event&id
 =398:car-couchette-77\n
DTSTART;VALUE=DATE:20150501
DTEND;VALUE=DATE:20150504
SUMMARY:Car-couchettes Destination à décider
URL:https://www.gumsparis.asso.fr/index.php?option=com_jem&view=event&id=39
 8:car-couchette-77
END:VEVENT
END:VCALENDAR
