BEGIN:VCALENDAR
VERSION:2.0
PRODID:-//213.186.33.4//NONSGML kigkonsult.se iCalcreator 2.20//
CALSCALE:GREGORIAN
METHOD:PUBLISH
X-WR-TIMEZONE:Europe/Paris
BEGIN:VEVENT
UID:event399@GUMS Paris
DTSTAMP:20260421T094104Z
CATEGORIES:Ski de Rando
DESCRIPTION:Car-couchettes Grimselpass (Guttannen)\nCatégorie: Ski de Rando
 \nLien: https://www.gumsparis.asso.fr/index.php?option=com_jem&view=event&
 id=399:car-couchette-78\n
DTSTART;VALUE=DATE:20150508
DTEND;VALUE=DATE:20150511
SUMMARY:Car-couchettes Grimselpass (Guttannen)
URL:https://www.gumsparis.asso.fr/index.php?option=com_jem&view=event&id=39
 9:car-couchette-78
END:VEVENT
END:VCALENDAR
