BEGIN:VCALENDAR
VERSION:2.0
PRODID:-//213.186.33.4//NONSGML kigkonsult.se iCalcreator 2.20//
CALSCALE:GREGORIAN
METHOD:PUBLISH
X-WR-TIMEZONE:Europe/Paris
BEGIN:VEVENT
UID:event40@GUMS Paris
DTSTAMP:20260421T091851Z
CATEGORIES:Vie du Club
DESCRIPTION:Assemblée Générale\nCatégorie: Vie du Club\nLien: https://www.g
 umsparis.asso.fr/index.php?option=com_jem&view=event&id=40:assemblee-gener
 ale\n
DTSTART;TZID=Europe/Paris:20101119T193000
DTEND;TZID=Europe/Paris:20101119T223000
SUMMARY:Assemblée Générale
URL:https://www.gumsparis.asso.fr/index.php?option=com_jem&view=event&id=40
 :assemblee-generale
END:VEVENT
END:VCALENDAR
