BEGIN:VCALENDAR
VERSION:2.0
PRODID:-//213.186.33.4//NONSGML kigkonsult.se iCalcreator 2.20//
CALSCALE:GREGORIAN
METHOD:PUBLISH
X-WR-TIMEZONE:Europe/Paris
BEGIN:VEVENT
UID:event404@GUMS Paris
DTSTAMP:20260421T093908Z
CATEGORIES:Sorties Falaises
DESCRIPTION:Week-end escalade Calanques\nCatégorie: Sorties Falaises\nLien:
  https://www.gumsparis.asso.fr/index.php?option=com_jem&view=event&id=404:
 week-end-escalade-calanques\n
DTSTART;VALUE=DATE:20150404
DTEND;VALUE=DATE:20150407
SUMMARY:Week-end escalade Calanques
URL:https://www.gumsparis.asso.fr/index.php?option=com_jem&view=event&id=40
 4:week-end-escalade-calanques
END:VEVENT
END:VCALENDAR
