BEGIN:VCALENDAR
VERSION:2.0
PRODID:-//213.186.33.4//NONSGML kigkonsult.se iCalcreator 2.20//
CALSCALE:GREGORIAN
METHOD:PUBLISH
X-WR-TIMEZONE:Europe/Paris
BEGIN:VEVENT
UID:event405@GUMS Paris
DTSTAMP:20260421T093942Z
CATEGORIES:Sorties Falaises
DESCRIPTION:Rassemblement dans le Verdon\nCatégorie: Sorties Falaises\nLien
 : https://www.gumsparis.asso.fr/index.php?option=com_jem&view=event&id=405
 :rassemblement-dans-le-verdon\n
DTSTART;VALUE=DATE:20150425
DTEND;VALUE=DATE:20150504
SUMMARY:Rassemblement dans le Verdon
URL:https://www.gumsparis.asso.fr/index.php?option=com_jem&view=event&id=40
 5:rassemblement-dans-le-verdon
END:VEVENT
END:VCALENDAR
