BEGIN:VCALENDAR
VERSION:2.0
PRODID:-//213.186.33.4//NONSGML kigkonsult.se iCalcreator 2.20//
CALSCALE:GREGORIAN
METHOD:PUBLISH
X-WR-TIMEZONE:Europe/Paris
BEGIN:VEVENT
UID:event407@GUMS Paris
DTSTAMP:20260421T094338Z
CATEGORIES:Sorties Falaises
DESCRIPTION:Week-end de l'Ascension à Buoux (Lubéron)\nCatégorie: Sorties F
 alaises\nLien: https://www.gumsparis.asso.fr/index.php?option=com_jem&view
 =event&id=407:week-end-de-l-ascension-a-buoux-luberon\n
DTSTART;VALUE=DATE:20150514
DTEND;VALUE=DATE:20150518
SUMMARY:Week-end de l'Ascension à Buoux (Lubéron)
URL:https://www.gumsparis.asso.fr/index.php?option=com_jem&view=event&id=40
 7:week-end-de-l-ascension-a-buoux-luberon
END:VEVENT
END:VCALENDAR
