BEGIN:VCALENDAR
VERSION:2.0
PRODID:-//213.186.33.4//NONSGML kigkonsult.se iCalcreator 2.20//
CALSCALE:GREGORIAN
METHOD:PUBLISH
X-WR-TIMEZONE:Europe/Paris
BEGIN:VEVENT
UID:event408@GUMS Paris
DTSTAMP:20260421T094611Z
CATEGORIES:Sorties Falaises
DESCRIPTION:Car Couchettes Gastlosen-Suisse\nCatégorie: Sorties Falaises\nL
 ien: https://www.gumsparis.asso.fr/index.php?option=com_jem&view=event&id=
 408:car-couchettes-gastlosen-suisse\n
DTSTART;VALUE=DATE:20150530
DTEND;VALUE=DATE:20150601
SUMMARY:Car Couchettes Gastlosen-Suisse
URL:https://www.gumsparis.asso.fr/index.php?option=com_jem&view=event&id=40
 8:car-couchettes-gastlosen-suisse
END:VEVENT
END:VCALENDAR
