BEGIN:VCALENDAR
VERSION:2.0
PRODID:-//213.186.33.4//NONSGML kigkonsult.se iCalcreator 2.20//
CALSCALE:GREGORIAN
METHOD:PUBLISH
X-WR-TIMEZONE:Europe/Paris
BEGIN:VEVENT
UID:event409@GUMS Paris
DTSTAMP:20260421T092502Z
CATEGORIES:Sorties Falaises
DESCRIPTION:Car couchettes Abondance-Cornettes de Bise\nCatégorie: Sorties 
 Falaises\nLien: https://www.gumsparis.asso.fr/index.php?option=com_jem&vie
 w=event&id=409:car-couchettes-abondance-cornettes-de-bise\n
DTSTART;VALUE=DATE:20151010
DTEND;VALUE=DATE:20151012
SUMMARY:Car couchettes Abondance-Cornettes de Bise
URL:https://www.gumsparis.asso.fr/index.php?option=com_jem&view=event&id=40
 9:car-couchettes-abondance-cornettes-de-bise
END:VEVENT
END:VCALENDAR
