BEGIN:VCALENDAR
VERSION:2.0
PRODID:-//213.186.33.4//NONSGML kigkonsult.se iCalcreator 2.20//
CALSCALE:GREGORIAN
METHOD:PUBLISH
X-WR-TIMEZONE:Europe/Paris
BEGIN:VEVENT
UID:event410@GUMS Paris
DTSTAMP:20260421T104629Z
CATEGORIES:Sorties randonnée
DESCRIPTION:La ville-jardin\, de La Gondoire à La Brosse.\nCatégorie: Sorti
 es randonnée\nLien: https://www.gumsparis.asso.fr/index.php?option=com_jem
 &view=event&id=410:la-ville-jardin-de-la-gondoire-a-la-brosse\n
DTSTART;VALUE=DATE:20150215
DTEND;VALUE=DATE:20150216
SUMMARY:La ville-jardin\, de La Gondoire à La Brosse.
URL:https://www.gumsparis.asso.fr/index.php?option=com_jem&view=event&id=41
 0:la-ville-jardin-de-la-gondoire-a-la-brosse
END:VEVENT
END:VCALENDAR
