BEGIN:VCALENDAR
VERSION:2.0
PRODID:-//213.186.33.4//NONSGML kigkonsult.se iCalcreator 2.20//
CALSCALE:GREGORIAN
METHOD:PUBLISH
X-WR-TIMEZONE:Europe/Paris
BEGIN:VEVENT
UID:event411@GUMS Paris
DTSTAMP:20260421T094734Z
CATEGORIES:Sorties randonnée
DESCRIPTION:'Sauts de loup' à Evely/Chalmaison (Seine et Marne)\nCatégorie:
  Sorties randonnée\nLien: https://www.gumsparis.asso.fr/index.php?option=c
 om_jem&view=event&id=411:sauts-de-loup-a-evely-chalmaison-seine-et-marne\n
DTSTART;VALUE=DATE:20150308
DTEND;VALUE=DATE:20150309
SUMMARY:'Sauts de loup' à Evely/Chalmaison (Seine et Marne)
URL:https://www.gumsparis.asso.fr/index.php?option=com_jem&view=event&id=41
 1:sauts-de-loup-a-evely-chalmaison-seine-et-marne
END:VEVENT
END:VCALENDAR
