BEGIN:VCALENDAR
VERSION:2.0
PRODID:-//213.186.33.4//NONSGML kigkonsult.se iCalcreator 2.20//
CALSCALE:GREGORIAN
METHOD:PUBLISH
X-WR-TIMEZONE:Europe/Paris
BEGIN:VEVENT
UID:event416@GUMS Paris
DTSTAMP:20260421T094423Z
CATEGORIES:SAE
DESCRIPTION:Grimpe en salle - Manip cordes\nCatégorie: SAE\nLien: https://w
 ww.gumsparis.asso.fr/index.php?option=com_jem&view=event&id=416:grimpe-en-
 salle-manip-cordes\n
DTSTART;TZID=Europe/Paris:20150321T100000
DTEND;TZID=Europe/Paris:20150321T140000
SUMMARY:Grimpe en salle - Manip cordes
URL:https://www.gumsparis.asso.fr/index.php?option=com_jem&view=event&id=41
 6:grimpe-en-salle-manip-cordes
END:VEVENT
END:VCALENDAR
