BEGIN:VCALENDAR
VERSION:2.0
PRODID:-//213.186.33.4//NONSGML kigkonsult.se iCalcreator 2.20//
CALSCALE:GREGORIAN
METHOD:PUBLISH
X-WR-TIMEZONE:Europe/Paris
BEGIN:VEVENT
UID:event417@GUMS Paris
DTSTAMP:20260421T094338Z
CATEGORIES:Sorties randonnée
DESCRIPTION:Promenade en forêt de Rambouillet.\nCatégorie: Sorties randonné
 e\nLien: https://www.gumsparis.asso.fr/index.php?option=com_jem&view=event
 &id=417:promenade-en-foret-de-rambouillet\n
DTSTART;VALUE=DATE:20150419
DTEND;VALUE=DATE:20150420
SUMMARY:Promenade en forêt de Rambouillet.
URL:https://www.gumsparis.asso.fr/index.php?option=com_jem&view=event&id=41
 7:promenade-en-foret-de-rambouillet
END:VEVENT
END:VCALENDAR
