BEGIN:VCALENDAR
VERSION:2.0
PRODID:-//213.186.33.4//NONSGML kigkonsult.se iCalcreator 2.20//
CALSCALE:GREGORIAN
METHOD:PUBLISH
X-WR-TIMEZONE:Europe/Paris
BEGIN:VEVENT
UID:event418@GUMS Paris
DTSTAMP:20260421T093757Z
CATEGORIES:Sorties randonnée
DESCRIPTION:Programme prévisionnel de 2015\nCatégorie: Sorties randonnée\nL
 ien: https://www.gumsparis.asso.fr/index.php?option=com_jem&view=event&id=
 418:programme-previsionnel-de-2015\n
DTSTART;VALUE=DATE:20150118
DTEND;VALUE=DATE:20151214
SUMMARY:Programme prévisionnel de 2015
URL:https://www.gumsparis.asso.fr/index.php?option=com_jem&view=event&id=41
 8:programme-previsionnel-de-2015
END:VEVENT
END:VCALENDAR
