BEGIN:VCALENDAR
VERSION:2.0
PRODID:-//213.186.33.4//NONSGML kigkonsult.se iCalcreator 2.20//
CALSCALE:GREGORIAN
METHOD:PUBLISH
X-WR-TIMEZONE:Europe/Paris
BEGIN:VEVENT
UID:event420@GUMS Paris
DTSTAMP:20260421T092609Z
CATEGORIES:Sorties Falaises
DESCRIPTION:Rassemblement Toussaint : Thaïlande\nCatégorie: Sorties Falaise
 s\nLien: https://www.gumsparis.asso.fr/index.php?option=com_jem&view=event
 &id=420:rassemblement-toussaint-thailande\n
DTSTART;VALUE=DATE:20151017
DTEND;VALUE=DATE:20151102
LOCATION:Thaïlande
SUMMARY:Rassemblement Toussaint : Thaïlande
URL:https://www.gumsparis.asso.fr/index.php?option=com_jem&view=event&id=42
 0:rassemblement-toussaint-thailande
END:VEVENT
END:VCALENDAR
