BEGIN:VCALENDAR
VERSION:2.0
PRODID:-//213.186.33.4//NONSGML kigkonsult.se iCalcreator 2.20//
CALSCALE:GREGORIAN
METHOD:PUBLISH
X-WR-TIMEZONE:Europe/Paris
BEGIN:VEVENT
UID:event421@GUMS Paris
DTSTAMP:20260421T094834Z
CATEGORIES:Sorties randonnée
DESCRIPTION:Séjour/Randonnées dans le Nord des Deux-Sèvres\nCatégorie: Sort
 ies randonnée\nLien: https://www.gumsparis.asso.fr/index.php?option=com_je
 m&view=event&id=421:sejour-randonnees-dans-le-nord-des-deux-sevres\n
DTSTART;VALUE=DATE:20150601
DTEND;VALUE=DATE:20150608
SUMMARY:Séjour/Randonnées dans le Nord des Deux-Sèvres
URL:https://www.gumsparis.asso.fr/index.php?option=com_jem&view=event&id=42
 1:sejour-randonnees-dans-le-nord-des-deux-sevres
END:VEVENT
END:VCALENDAR
