BEGIN:VCALENDAR
VERSION:2.0
PRODID:-//213.186.33.4//NONSGML kigkonsult.se iCalcreator 2.20//
CALSCALE:GREGORIAN
METHOD:PUBLISH
X-WR-TIMEZONE:Europe/Paris
BEGIN:VEVENT
UID:event422@GUMS Paris
DTSTAMP:20260421T094833Z
CATEGORIES:Sorties randonnée
DESCRIPTION:Autour de Crouy-sur-Ourcq (N/E de Meaux)\nCatégorie: Sorties ra
 ndonnée\nLien: https://www.gumsparis.asso.fr/index.php?option=com_jem&view
 =event&id=422:samedi-16-mai-2015-autour-de-crouy-sur-ourcq-n-e-de-meaux\n
DTSTART;VALUE=DATE:20150516
DTEND;VALUE=DATE:20150517
SUMMARY:Autour de Crouy-sur-Ourcq (N/E de Meaux)
URL:https://www.gumsparis.asso.fr/index.php?option=com_jem&view=event&id=42
 2:samedi-16-mai-2015-autour-de-crouy-sur-ourcq-n-e-de-meaux
END:VEVENT
END:VCALENDAR
