BEGIN:VCALENDAR
VERSION:2.0
PRODID:-//213.186.33.4//NONSGML kigkonsult.se iCalcreator 2.20//
CALSCALE:GREGORIAN
METHOD:PUBLISH
X-WR-TIMEZONE:Europe/Paris
BEGIN:VEVENT
UID:event425@GUMS Paris
DTSTAMP:20260421T094611Z
CATEGORIES:Sorties Falaises
DESCRIPTION:Sortie falaise Clécy (Normandie)\nCatégorie: Sorties Falaises\n
 Lien: https://www.gumsparis.asso.fr/index.php?option=com_jem&view=event&id
 =425:sortie-falaise-clecy-normandie\n
DTSTART;VALUE=DATE:20150508
DTEND;VALUE=DATE:20150511
SUMMARY:Sortie falaise Clécy (Normandie)
URL:https://www.gumsparis.asso.fr/index.php?option=com_jem&view=event&id=42
 5:sortie-falaise-clecy-normandie
END:VEVENT
END:VCALENDAR
