BEGIN:VCALENDAR
VERSION:2.0
PRODID:-//213.186.33.4//NONSGML kigkonsult.se iCalcreator 2.20//
CALSCALE:GREGORIAN
METHOD:PUBLISH
X-WR-TIMEZONE:Europe/Paris
BEGIN:VEVENT
UID:event427@GUMS Paris
DTSTAMP:20260421T094655Z
CATEGORIES:Sorties randonnée
DESCRIPTION:Au cœur du Vexin français\nCatégorie: Sorties randonnée\nLien: 
 https://www.gumsparis.asso.fr/index.php?option=com_jem&view=event&id=427:a
 u-coeur-du-vexin-francais\n
DTSTART;VALUE=DATE:20150621
DTEND;VALUE=DATE:20150622
SUMMARY:Au cœur du Vexin français
URL:https://www.gumsparis.asso.fr/index.php?option=com_jem&view=event&id=42
 7:au-coeur-du-vexin-francais
END:VEVENT
END:VCALENDAR
