BEGIN:VCALENDAR
VERSION:2.0
PRODID:-//213.186.33.4//NONSGML kigkonsult.se iCalcreator 2.20//
CALSCALE:GREGORIAN
METHOD:PUBLISH
X-WR-TIMEZONE:Europe/Paris
BEGIN:VEVENT
UID:event428@GUMS Paris
DTSTAMP:20260421T094701Z
CATEGORIES:Sorties randonnée
DESCRIPTION:Séjour/Randonnées dans la presqu'ile de Crozon\nCatégorie: Sort
 ies randonnée\nLien: https://www.gumsparis.asso.fr/index.php?option=com_je
 m&view=event&id=428:sejour-randonnee-presqu-ile-de-crozon\n
DTSTART;VALUE=DATE:20151010
DTEND;VALUE=DATE:20151018
SUMMARY:Séjour/Randonnées dans la presqu'ile de Crozon
URL:https://www.gumsparis.asso.fr/index.php?option=com_jem&view=event&id=42
 8:sejour-randonnee-presqu-ile-de-crozon
END:VEVENT
END:VCALENDAR
