BEGIN:VCALENDAR
VERSION:2.0
PRODID:-//213.186.33.4//NONSGML kigkonsult.se iCalcreator 2.20//
CALSCALE:GREGORIAN
METHOD:PUBLISH
X-WR-TIMEZONE:Europe/Paris
BEGIN:VEVENT
UID:event429@GUMS Paris
DTSTAMP:20260421T093226Z
CATEGORIES:Sorties randonnée
DESCRIPTION:En forêt domaniale autour de Maisons-Laffitte\nCatégorie: Sorti
 es randonnée\nLien: https://www.gumsparis.asso.fr/index.php?option=com_jem
 &view=event&id=429:en-foret-domaniale-autour-de-maisons-laffitte\n
DTSTART;VALUE=DATE:20150927
DTEND;VALUE=DATE:20150928
SUMMARY:En forêt domaniale autour de Maisons-Laffitte
URL:https://www.gumsparis.asso.fr/index.php?option=com_jem&view=event&id=42
 9:en-foret-domaniale-autour-de-maisons-laffitte
END:VEVENT
END:VCALENDAR
