BEGIN:VCALENDAR
VERSION:2.0
PRODID:-//213.186.33.4//NONSGML kigkonsult.se iCalcreator 2.20//
CALSCALE:GREGORIAN
METHOD:PUBLISH
X-WR-TIMEZONE:Europe/Paris
BEGIN:VEVENT
UID:event432@GUMS Paris
DTSTAMP:20260421T094533Z
CATEGORIES:Sorties Falaises\, Vie du Club
DESCRIPTION:soirée estivale à fontainebleau\nCatégorie: Sorties Falaises\, 
 Vie du Club\nLien: https://www.gumsparis.asso.fr/index.php?option=com_jem&
 view=event&id=432:soiree-estivale-a-fontainebleau\n
DTSTART;TZID=Europe/Paris:20150624T160000
DTEND;TZID=Europe/Paris:20150624T230000
SUMMARY:soirée estivale à fontainebleau
URL:https://www.gumsparis.asso.fr/index.php?option=com_jem&view=event&id=43
 2:soiree-estivale-a-fontainebleau
END:VEVENT
END:VCALENDAR
