BEGIN:VCALENDAR
VERSION:2.0
PRODID:-//213.186.33.4//NONSGML kigkonsult.se iCalcreator 2.20//
CALSCALE:GREGORIAN
METHOD:PUBLISH
X-WR-TIMEZONE:Europe/Paris
BEGIN:VEVENT
UID:event433@GUMS Paris
DTSTAMP:20260421T093006Z
CATEGORIES:Vie du Club
DESCRIPTION: Week-end Gums National-AG à Léoncel \nCatégorie: Vie du Club\n
 Lien: https://www.gumsparis.asso.fr/index.php?option=com_jem&view=event&id
 =433:week-end-gums-national-ag-a-leoncel\n
DTSTART;VALUE=DATE:20150926
DTEND;VALUE=DATE:20150928
SUMMARY: Week-end Gums National-AG à Léoncel 
URL:https://www.gumsparis.asso.fr/index.php?option=com_jem&view=event&id=43
 3:week-end-gums-national-ag-a-leoncel
END:VEVENT
END:VCALENDAR
