BEGIN:VCALENDAR
VERSION:2.0
PRODID:-//213.186.33.4//NONSGML kigkonsult.se iCalcreator 2.20//
CALSCALE:GREGORIAN
METHOD:PUBLISH
X-WR-TIMEZONE:Europe/Paris
BEGIN:VEVENT
UID:event434@GUMS Paris
DTSTAMP:20260421T092221Z
CATEGORIES:Stage d'initiation\, Vie du Club
DESCRIPTION:Pot d'accueil  escalade\nCatégorie: Stage d'initiation\, Vie du
  Club\nLien: https://www.gumsparis.asso.fr/index.php?option=com_jem&view=e
 vent&id=434:pot-d-accueil-escalade\n
DTSTART;TZID=Europe/Paris:20150903T191500
DTEND;TZID=Europe/Paris:20150903T210000
SUMMARY:Pot d'accueil  escalade
URL:https://www.gumsparis.asso.fr/index.php?option=com_jem&view=event&id=43
 4:pot-d-accueil-escalade
END:VEVENT
END:VCALENDAR
