BEGIN:VCALENDAR
VERSION:2.0
PRODID:-//213.186.33.4//NONSGML kigkonsult.se iCalcreator 2.20//
CALSCALE:GREGORIAN
METHOD:PUBLISH
X-WR-TIMEZONE:Europe/Paris
BEGIN:VEVENT
UID:event436@GUMS Paris
DTSTAMP:20260421T094701Z
CATEGORIES:Sorties Falaises
DESCRIPTION:Rassemblement Toussaint  aux dentelles de Montmirail\nCatégorie
 : Sorties Falaises\nLien: https://www.gumsparis.asso.fr/index.php?option=c
 om_jem&view=event&id=436:rassemblement-toussaint-en-france\n
DTSTART;VALUE=DATE:20151024
DTEND;VALUE=DATE:20151102
SUMMARY:Rassemblement Toussaint  aux dentelles de Montmirail
URL:https://www.gumsparis.asso.fr/index.php?option=com_jem&view=event&id=43
 6:rassemblement-toussaint-en-france
END:VEVENT
END:VCALENDAR
