BEGIN:VCALENDAR
VERSION:2.0
PRODID:-//213.186.33.4//NONSGML kigkonsult.se iCalcreator 2.20//
CALSCALE:GREGORIAN
METHOD:PUBLISH
X-WR-TIMEZONE:Europe/Paris
BEGIN:VEVENT
UID:event437@GUMS Paris
DTSTAMP:20260421T092147Z
CATEGORIES:Sorties Falaises
DESCRIPTION:5 jours à la Sainte Victoire\nCatégorie: Sorties Falaises\nLien
 : https://www.gumsparis.asso.fr/index.php?option=com_jem&view=event&id=437
 :sainte-victoire\n
DTSTART;VALUE=DATE:20151111
DTEND;VALUE=DATE:20151116
SUMMARY:5 jours à la Sainte Victoire
URL:https://www.gumsparis.asso.fr/index.php?option=com_jem&view=event&id=43
 7:sainte-victoire
END:VEVENT
END:VCALENDAR
