BEGIN:VCALENDAR
VERSION:2.0
PRODID:-//213.186.33.4//NONSGML kigkonsult.se iCalcreator 2.20//
CALSCALE:GREGORIAN
METHOD:PUBLISH
X-WR-TIMEZONE:Europe/Paris
BEGIN:VEVENT
UID:event438@GUMS Paris
DTSTAMP:20260421T092138Z
CATEGORIES:Sorties randonnée
DESCRIPTION:Dans la forêt de Marly\nCatégorie: Sorties randonnée\nLien: htt
 ps://www.gumsparis.asso.fr/index.php?option=com_jem&view=event&id=438:dans
 -la-foret-de-marly\n
DTSTART;VALUE=DATE:20151025
DTEND;VALUE=DATE:20151026
SUMMARY:Dans la forêt de Marly
URL:https://www.gumsparis.asso.fr/index.php?option=com_jem&view=event&id=43
 8:dans-la-foret-de-marly
END:VEVENT
END:VCALENDAR
