BEGIN:VCALENDAR
VERSION:2.0
PRODID:-//213.186.33.4//NONSGML kigkonsult.se iCalcreator 2.20//
CALSCALE:GREGORIAN
METHOD:PUBLISH
X-WR-TIMEZONE:Europe/Paris
BEGIN:VEVENT
UID:event441@GUMS Paris
DTSTAMP:20260421T093344Z
CATEGORIES:Sorties randonnée
DESCRIPTION:Autour d’Orgerus\, (Yvelines\, près de HOUDAN)\nCatégorie: Sort
 ies randonnée\nLien: https://www.gumsparis.asso.fr/index.php?option=com_je
 m&view=event&id=441:autour-d-orgerus-yvelines-pres-de-houdan\n
DTSTART;VALUE=DATE:20151122
DTEND;VALUE=DATE:20151123
SUMMARY:Autour d’Orgerus\, (Yvelines\, près de HOUDAN)
URL:https://www.gumsparis.asso.fr/index.php?option=com_jem&view=event&id=44
 1:autour-d-orgerus-yvelines-pres-de-houdan
END:VEVENT
END:VCALENDAR
