BEGIN:VCALENDAR
VERSION:2.0
PRODID:-//213.186.33.4//NONSGML kigkonsult.se iCalcreator 2.20//
CALSCALE:GREGORIAN
METHOD:PUBLISH
X-WR-TIMEZONE:Europe/Paris
BEGIN:VEVENT
UID:event442@GUMS Paris
DTSTAMP:20260421T092301Z
CATEGORIES:Sorties randonnée
DESCRIPTION:En forêt de Meudon\nCatégorie: Sorties randonnée\nLien: https:/
 /www.gumsparis.asso.fr/index.php?option=com_jem&view=event&id=442:en-foret
 -de-meudon\n
DTSTART;VALUE=DATE:20151213
DTEND;VALUE=DATE:20151214
SUMMARY:En forêt de Meudon
URL:https://www.gumsparis.asso.fr/index.php?option=com_jem&view=event&id=44
 2:en-foret-de-meudon
END:VEVENT
END:VCALENDAR
