BEGIN:VCALENDAR
VERSION:2.0
PRODID:-//213.186.33.4//NONSGML kigkonsult.se iCalcreator 2.20//
CALSCALE:GREGORIAN
METHOD:PUBLISH
X-WR-TIMEZONE:Europe/Paris
BEGIN:VEVENT
UID:event443@GUMS Paris
DTSTAMP:20260421T092434Z
CATEGORIES:Vie du Club
DESCRIPTION:Réunion de la commission ski\nCatégorie: Vie du Club\nLien: htt
 ps://www.gumsparis.asso.fr/index.php?option=com_jem&view=event&id=443:reun
 ion-de-la-commission-ski\n
DTSTART;TZID=Europe/Paris:20151013T193000
DTEND;TZID=Europe/Paris:20151013T213000
LOCATION:Perma\,53 rue du Moulin Vert\,75014 Paris
SUMMARY:Réunion de la commission ski
URL:https://www.gumsparis.asso.fr/index.php?option=com_jem&view=event&id=44
 3:reunion-de-la-commission-ski
END:VEVENT
END:VCALENDAR
