BEGIN:VCALENDAR
VERSION:2.0
PRODID:-//213.186.33.4//NONSGML kigkonsult.se iCalcreator 2.20//
CALSCALE:GREGORIAN
METHOD:PUBLISH
X-WR-TIMEZONE:Europe/Paris
BEGIN:VEVENT
UID:event446@GUMS Paris
DTSTAMP:20260421T091945Z
CATEGORIES:Ski de Rando
DESCRIPTION:Entraînement DVA\nCatégorie: Ski de Rando\nLien: https://www.gu
 msparis.asso.fr/index.php?option=com_jem&view=event&id=446:entrainement-dv
 a\n
DTSTART;TZID=Europe/Paris:20151128T100000
DTEND;TZID=Europe/Paris:20151128T100000
SUMMARY:Entraînement DVA
URL:https://www.gumsparis.asso.fr/index.php?option=com_jem&view=event&id=44
 6:entrainement-dva
END:VEVENT
END:VCALENDAR
