BEGIN:VCALENDAR
VERSION:2.0
PRODID:-//213.186.33.4//NONSGML kigkonsult.se iCalcreator 2.20//
CALSCALE:GREGORIAN
METHOD:PUBLISH
X-WR-TIMEZONE:Europe/Paris
BEGIN:VEVENT
UID:event447@GUMS Paris
DTSTAMP:20260421T091717Z
CATEGORIES:Vie du Club
DESCRIPTION:com escalade\nCatégorie: Vie du Club\nLien: https://www.gumspar
 is.asso.fr/index.php?option=com_jem&view=event&id=447:com-escalade\n
DTSTART;TZID=Europe/Paris:20151102T193000
DTEND;TZID=Europe/Paris:20151102T193000
LOCATION:Perma\,53 rue du Moulin Vert\,75014 Paris
SUMMARY:com escalade
URL:https://www.gumsparis.asso.fr/index.php?option=com_jem&view=event&id=44
 7:com-escalade
END:VEVENT
END:VCALENDAR
