BEGIN:VCALENDAR
VERSION:2.0
PRODID:-//213.186.33.4//NONSGML kigkonsult.se iCalcreator 2.20//
CALSCALE:GREGORIAN
METHOD:PUBLISH
X-WR-TIMEZONE:Europe/Paris
BEGIN:VEVENT
UID:event448@GUMS Paris
DTSTAMP:20260421T091729Z
CATEGORIES:Sorties randonnée
DESCRIPTION:Programme prévisionnel de 2016 groupe randonnée pédestre\nCatég
 orie: Sorties randonnée\nLien: https://www.gumsparis.asso.fr/index.php?opt
 ion=com_jem&view=event&id=448:programme-previsionnel-de-2016\n
DTSTART;VALUE=DATE:20160110
DTEND;VALUE=DATE:20161212
SUMMARY:Programme prévisionnel de 2016 groupe randonnée pédestre
URL:https://www.gumsparis.asso.fr/index.php?option=com_jem&view=event&id=44
 8:programme-previsionnel-de-2016
END:VEVENT
END:VCALENDAR
