BEGIN:VCALENDAR
VERSION:2.0
PRODID:-//213.186.33.4//NONSGML kigkonsult.se iCalcreator 2.20//
CALSCALE:GREGORIAN
METHOD:PUBLISH
X-WR-TIMEZONE:Europe/Paris
BEGIN:VEVENT
UID:event491@GUMS Paris
DTSTAMP:20260421T103940Z
CATEGORIES:Ski de Rando
DESCRIPTION:WE ski en covoiturage (3 jours)\nCatégorie: Ski de Rando\nLien:
  https://www.gumsparis.asso.fr/index.php?option=com_jem&view=event&id=491:
 car-couchette-88\n
DTSTART;VALUE=DATE:20160422
DTEND;VALUE=DATE:20160425
SUMMARY:WE ski en covoiturage (3 jours)
URL:https://www.gumsparis.asso.fr/index.php?option=com_jem&view=event&id=49
 1:car-couchette-88
END:VEVENT
END:VCALENDAR
