BEGIN:VCALENDAR
VERSION:2.0
PRODID:-//213.186.33.4//NONSGML kigkonsult.se iCalcreator 2.20//
CALSCALE:GREGORIAN
METHOD:PUBLISH
X-WR-TIMEZONE:Europe/Paris
BEGIN:VEVENT
UID:event493@GUMS Paris
DTSTAMP:20260421T103947Z
CATEGORIES:Ski de Rando
DESCRIPTION:Car-couchettes Écrins\nCatégorie: Ski de Rando\nLien: https://w
 ww.gumsparis.asso.fr/index.php?option=com_jem&view=event&id=493:car-couche
 tte-90\n
DTSTART;VALUE=DATE:20160514
DTEND;VALUE=DATE:20160517
SUMMARY:Car-couchettes Écrins
URL:https://www.gumsparis.asso.fr/index.php?option=com_jem&view=event&id=49
 3:car-couchette-90
END:VEVENT
END:VCALENDAR
