BEGIN:VCALENDAR
VERSION:2.0
PRODID:-//213.186.33.4//NONSGML kigkonsult.se iCalcreator 2.20//
CALSCALE:GREGORIAN
METHOD:PUBLISH
X-WR-TIMEZONE:Europe/Paris
BEGIN:VEVENT
UID:event494@GUMS Paris
DTSTAMP:20260421T103750Z
CATEGORIES:Vie du Club
DESCRIPTION:Rallye\nCatégorie: Vie du Club\nLien: https://www.gumsparis.ass
 o.fr/index.php?option=com_jem&view=event&id=494:rallye-2016\n
DTSTART;VALUE=DATE:20160521
DTEND;VALUE=DATE:20160522
SUMMARY:Rallye
URL:https://www.gumsparis.asso.fr/index.php?option=com_jem&view=event&id=49
 4:rallye-2016
END:VEVENT
END:VCALENDAR
