BEGIN:VCALENDAR
VERSION:2.0
PRODID:-//213.186.33.4//NONSGML kigkonsult.se iCalcreator 2.20//
CALSCALE:GREGORIAN
METHOD:PUBLISH
X-WR-TIMEZONE:Europe/Paris
BEGIN:VEVENT
UID:event495@GUMS Paris
DTSTAMP:20260421T094734Z
CATEGORIES:Sorties randonnée
DESCRIPTION:Forêt de Fontainebleau (Autour du Rocher Cassepot)\nCatégorie: 
 Sorties randonnée\nLien: https://www.gumsparis.asso.fr/index.php?option=co
 m_jem&view=event&id=495:foret-de-fontainebleau-autour-du-rocher-cassepot\n
DTSTART;VALUE=DATE:20160110
DTEND;VALUE=DATE:20160111
SUMMARY:Forêt de Fontainebleau (Autour du Rocher Cassepot)
URL:https://www.gumsparis.asso.fr/index.php?option=com_jem&view=event&id=49
 5:foret-de-fontainebleau-autour-du-rocher-cassepot
END:VEVENT
END:VCALENDAR
