BEGIN:VCALENDAR
VERSION:2.0
PRODID:-//213.186.33.4//NONSGML kigkonsult.se iCalcreator 2.20//
CALSCALE:GREGORIAN
METHOD:PUBLISH
X-WR-TIMEZONE:Europe/Paris
BEGIN:VEVENT
UID:event496@GUMS Paris
DTSTAMP:20260421T104513Z
CATEGORIES:Sorties Falaises
DESCRIPTION:Ascension: Escalade au Baou de St Jeannet ANNULE\nCatégorie: So
 rties Falaises\nLien: https://www.gumsparis.asso.fr/index.php?option=com_j
 em&view=event&id=496:ascension-escalade-au-baou-de-st-jeannet\n
DTSTART;VALUE=DATE:20160505
DTEND;VALUE=DATE:20160509
SUMMARY:Ascension: Escalade au Baou de St Jeannet ANNULE
URL:https://www.gumsparis.asso.fr/index.php?option=com_jem&view=event&id=49
 6:ascension-escalade-au-baou-de-st-jeannet
END:VEVENT
END:VCALENDAR
