BEGIN:VCALENDAR
VERSION:2.0
PRODID:-//213.186.33.4//NONSGML kigkonsult.se iCalcreator 2.20//
CALSCALE:GREGORIAN
METHOD:PUBLISH
X-WR-TIMEZONE:Europe/Paris
BEGIN:VEVENT
UID:event497@GUMS Paris
DTSTAMP:20260421T104432Z
CATEGORIES:Sorties Falaises
DESCRIPTION:Week-end covoiturage Bourgogne: Saffres\nCatégorie: Sorties Fal
 aises\nLien: https://www.gumsparis.asso.fr/index.php?option=com_jem&view=e
 vent&id=497:week-end-covoiturage-bourgogne\n
DTSTART;VALUE=DATE:20160604
DTEND;VALUE=DATE:20160606
SUMMARY:Week-end covoiturage Bourgogne: Saffres
URL:https://www.gumsparis.asso.fr/index.php?option=com_jem&view=event&id=49
 7:week-end-covoiturage-bourgogne
END:VEVENT
END:VCALENDAR
