BEGIN:VCALENDAR
VERSION:2.0
PRODID:-//213.186.33.4//NONSGML kigkonsult.se iCalcreator 2.20//
CALSCALE:GREGORIAN
METHOD:PUBLISH
X-WR-TIMEZONE:Europe/Paris
BEGIN:VEVENT
UID:event499@GUMS Paris
DTSTAMP:20260421T103848Z
CATEGORIES:Sorties Falaises
DESCRIPTION:Rassemblement dans la Drôme\nCatégorie: Sorties Falaises\nLien:
  https://www.gumsparis.asso.fr/index.php?option=com_jem&view=event&id=499:
 rassemblement-drome-2016\n
DTSTART;VALUE=DATE:20160416
DTEND;VALUE=DATE:20160424
SUMMARY:Rassemblement dans la Drôme
URL:https://www.gumsparis.asso.fr/index.php?option=com_jem&view=event&id=49
 9:rassemblement-drome-2016
END:VEVENT
END:VCALENDAR
