BEGIN:VCALENDAR
VERSION:2.0
PRODID:-//213.186.33.4//NONSGML kigkonsult.se iCalcreator 2.20//
CALSCALE:GREGORIAN
METHOD:PUBLISH
X-WR-TIMEZONE:Europe/Paris
BEGIN:VEVENT
UID:event501@GUMS Paris
DTSTAMP:20260421T103812Z
CATEGORIES:Sorties Falaises
DESCRIPTION:Pentecôte : Pen-Hir\nCatégorie: Sorties Falaises\nLien: https:/
 /www.gumsparis.asso.fr/index.php?option=com_jem&view=event&id=501:pen-hir
 \n
DTSTART;VALUE=DATE:20160514
DTEND;VALUE=DATE:20160517
SUMMARY:Pentecôte : Pen-Hir
URL:https://www.gumsparis.asso.fr/index.php?option=com_jem&view=event&id=50
 1:pen-hir
END:VEVENT
END:VCALENDAR
