BEGIN:VCALENDAR
VERSION:2.0
PRODID:-//213.186.33.4//NONSGML kigkonsult.se iCalcreator 2.20//
CALSCALE:GREGORIAN
METHOD:PUBLISH
X-WR-TIMEZONE:Europe/Paris
BEGIN:VEVENT
UID:event502@GUMS Paris
DTSTAMP:20260421T103848Z
CATEGORIES:Sorties Falaises
DESCRIPTION:Anzeindaz (Miroir d'Argentine)\nCatégorie: Sorties Falaises\nLi
 en: https://www.gumsparis.asso.fr/index.php?option=com_jem&view=event&id=5
 02:anzeindaz\n
DTSTART;VALUE=DATE:20160618
DTEND;VALUE=DATE:20160620
SUMMARY:Anzeindaz (Miroir d'Argentine)
URL:https://www.gumsparis.asso.fr/index.php?option=com_jem&view=event&id=50
 2:anzeindaz
END:VEVENT
END:VCALENDAR
