BEGIN:VCALENDAR
VERSION:2.0
PRODID:-//213.186.33.4//NONSGML kigkonsult.se iCalcreator 2.20//
CALSCALE:GREGORIAN
METHOD:PUBLISH
X-WR-TIMEZONE:Europe/Paris
BEGIN:VEVENT
UID:event503@GUMS Paris
DTSTAMP:20260421T103813Z
CATEGORIES:Rando sportive\, Sorties Falaises
DESCRIPTION:Car-couchettes: Col de la Colombière (Aravis)\nCatégorie: Rando
  sportive\, Sorties Falaises\nLien: https://www.gumsparis.asso.fr/index.ph
 p?option=com_jem&view=event&id=503:col-colembiere\n
DTSTART;VALUE=DATE:20161008
DTEND;VALUE=DATE:20161010
SUMMARY:Car-couchettes: Col de la Colombière (Aravis)
URL:https://www.gumsparis.asso.fr/index.php?option=com_jem&view=event&id=50
 3:col-colembiere
END:VEVENT
END:VCALENDAR
