BEGIN:VCALENDAR
VERSION:2.0
PRODID:-//213.186.33.4//NONSGML kigkonsult.se iCalcreator 2.20//
CALSCALE:GREGORIAN
METHOD:PUBLISH
X-WR-TIMEZONE:Europe/Paris
BEGIN:VEVENT
UID:event504@GUMS Paris
DTSTAMP:20260421T103911Z
CATEGORIES:Sorties Falaises
DESCRIPTION:Rassemblement à Kalymnos\nCatégorie: Sorties Falaises\nLien: ht
 tps://www.gumsparis.asso.fr/index.php?option=com_jem&view=event&id=504:ras
 emblement-kalymnos\n
DTSTART;VALUE=DATE:20161019
DTEND;VALUE=DATE:20161104
SUMMARY:Rassemblement à Kalymnos
URL:https://www.gumsparis.asso.fr/index.php?option=com_jem&view=event&id=50
 4:rasemblement-kalymnos
END:VEVENT
END:VCALENDAR
