BEGIN:VCALENDAR
VERSION:2.0
PRODID:-//213.186.33.4//NONSGML kigkonsult.se iCalcreator 2.20//
CALSCALE:GREGORIAN
METHOD:PUBLISH
X-WR-TIMEZONE:Europe/Paris
BEGIN:VEVENT
UID:event506@GUMS Paris
DTSTAMP:20260421T104320Z
CATEGORIES:Sorties Falaises
DESCRIPTION:Week-end escalade 'RTT' à Machaby (Val d'Aoste)\nCatégorie: Sor
 ties Falaises\nLien: https://www.gumsparis.asso.fr/index.php?option=com_je
 m&view=event&id=506:week-end-escalade-rtt-a-machaby-val-d-aoste\n
DTSTART;VALUE=DATE:20160422
DTEND;VALUE=DATE:20160425
SUMMARY:Week-end escalade 'RTT' à Machaby (Val d'Aoste)
URL:https://www.gumsparis.asso.fr/index.php?option=com_jem&view=event&id=50
 6:week-end-escalade-rtt-a-machaby-val-d-aoste
END:VEVENT
END:VCALENDAR
