BEGIN:VCALENDAR
VERSION:2.0
PRODID:-//213.186.33.4//NONSGML kigkonsult.se iCalcreator 2.20//
CALSCALE:GREGORIAN
METHOD:PUBLISH
X-WR-TIMEZONE:Europe/Paris
BEGIN:VEVENT
UID:event510@GUMS Paris
DTSTAMP:20260421T104144Z
CATEGORIES:Sorties randonnée
DESCRIPTION:La vallée de l'Orge\, la basilique de Longpont et la tour de Mo
 ntlhéry\nCatégorie: Sorties randonnée\nLien: https://www.gumsparis.asso.fr
 /index.php?option=com_jem&view=event&id=510:la-vallee-de-l-orge\n
DTSTART;TZID=Europe/Paris:20160214T100000
DTEND;TZID=Europe/Paris:20160214T100000
SUMMARY:La vallée de l'Orge\, la basilique de Longpont et la tour de Montlh
 éry
URL:https://www.gumsparis.asso.fr/index.php?option=com_jem&view=event&id=51
 0:la-vallee-de-l-orge
END:VEVENT
END:VCALENDAR
