BEGIN:VCALENDAR
VERSION:2.0
PRODID:-//213.186.33.4//NONSGML kigkonsult.se iCalcreator 2.20//
CALSCALE:GREGORIAN
METHOD:PUBLISH
X-WR-TIMEZONE:Europe/Paris
BEGIN:VEVENT
UID:event511@GUMS Paris
DTSTAMP:20260421T104513Z
CATEGORIES:Sorties randonnée
DESCRIPTION:Autour d’Auvers-sur-Oise et de Valmondois\nCatégorie: Sorties r
 andonnée\nLien: https://www.gumsparis.asso.fr/index.php?option=com_jem&vie
 w=event&id=511:autour-d-auvers-sur-oise-et-de-valmondois\n
DTSTART;TZID=Europe/Paris:20160306T100000
DTEND;TZID=Europe/Paris:20160306T100000
SUMMARY:Autour d’Auvers-sur-Oise et de Valmondois
URL:https://www.gumsparis.asso.fr/index.php?option=com_jem&view=event&id=51
 1:autour-d-auvers-sur-oise-et-de-valmondois
END:VEVENT
END:VCALENDAR
