BEGIN:VCALENDAR
VERSION:2.0
PRODID:-//213.186.33.4//NONSGML kigkonsult.se iCalcreator 2.20//
CALSCALE:GREGORIAN
METHOD:PUBLISH
X-WR-TIMEZONE:Europe/Paris
BEGIN:VEVENT
UID:event512@GUMS Paris
DTSTAMP:20260421T104653Z
CATEGORIES:Sorties randonnée
DESCRIPTION:De Chevreuse à Port-Royal-des-Champs\, sur les pas de Jean Raci
 ne.\nCatégorie: Sorties randonnée\nLien: https://www.gumsparis.asso.fr/ind
 ex.php?option=com_jem&view=event&id=512:dimanche-3-avril-2016-de-chevreuse
 -a-port-royal-des-champs-sur-les-pas-de-jean-racine\n
DTSTART;TZID=Europe/Paris:20160403T100000
DTEND;TZID=Europe/Paris:20160403T100000
SUMMARY:De Chevreuse à Port-Royal-des-Champs\, sur les pas de Jean Racine.
URL:https://www.gumsparis.asso.fr/index.php?option=com_jem&view=event&id=51
 2:dimanche-3-avril-2016-de-chevreuse-a-port-royal-des-champs-sur-les-pas-d
 e-jean-racine
END:VEVENT
END:VCALENDAR
