BEGIN:VCALENDAR
VERSION:2.0
PRODID:-//213.186.33.4//NONSGML kigkonsult.se iCalcreator 2.20//
CALSCALE:GREGORIAN
METHOD:PUBLISH
X-WR-TIMEZONE:Europe/Paris
BEGIN:VEVENT
UID:event513@GUMS Paris
DTSTAMP:20260421T104023Z
CATEGORIES:Sorties Falaises
DESCRIPTION:Escalade dans les Calanques à Pâques\nCatégorie: Sorties Falais
 es\nLien: https://www.gumsparis.asso.fr/index.php?option=com_jem&view=even
 t&id=513:escalade-dans-les-calanques-a-paques\n
DTSTART;VALUE=DATE:20160326
DTEND;VALUE=DATE:20160329
SUMMARY:Escalade dans les Calanques à Pâques
URL:https://www.gumsparis.asso.fr/index.php?option=com_jem&view=event&id=51
 3:escalade-dans-les-calanques-a-paques
END:VEVENT
END:VCALENDAR
